BEGIN:VCALENDAR
CALSCALE:GREGORIAN
X-WR-TIMEZONE;VALUE=TEXT:GMT
PRODID:PEAK Corporation - piCal -
X-WR-CALNAME;VALUE=TEXT:¼w°ê¸Ö¤H®u°Ç»¡¡G¡u®É¶¡ªº¨B¥ï¦³¤T¡G¥¼¨Ó©k©k¨Ó¿ð¡F²{¦b¹³½b¤@¯ë­¸³u¡F¹L¥h¥Ã»·ÀR¤î¤£°Ê¡C¡v¹L¥hªº¤@¤Á¯d¦b°O¾Ð¤¤¡A²{¦b¥u¬O·í¤Uªº¤@«b¨º¡A¦Ü©ó¥¼¨Ó¡A«h¬O§Ú­Ìªº§Æ±æ¤§©Ò¦b¡C±q¹L¥hªº©wÂI¬Ý¨Ó¡A²{¦b¤]¡u´¿¡v¬O¥¼¨Ó¡A¨Ã¥B¤]¡u±N¡v·|¹L¥h¡C¦]¦¹¡A§A§Æ±æ¥Í©Rµ²¥X¤°»òªG¡A´N¥þ¾a¦Û¤vªº¯Ñ¯Ð¤F¡C­Y·Q§¹¦¨¥Í©Rªº«÷¹Ï¡A¬O¤£¯à¨S¦³¼¥¼©»P»·¨£¡C
VERSION:2.0
METHOD:PUBLISH
BEGIN:VTIMEZONE
TZID:GMT
BEGIN:STANDARD
DTSTART:19390101T000000
TZOFFSETFROM:+0000
TZOFFSETTO:+0000
TZNAME:GMT
END:STANDARD
END:VTIMEZONE
BEGIN:VEVENT
DTSTART;VALUE=DATE:20081217
DTEND;VALUE=DATE:20081218
LOCATION:
TRANSP:OPAQUE
SEQUENCE:1
UID:pical060-51643541fdd725fcf6643d8b863b1ccf
DTSTAMP:20080327T115607Z
CATEGORIES:
DESCRIPTION:
SUMMARY:¼w°ê¸Ö¤H®u°Ç»¡¡G¡u®É¶¡ªº¨B¥ï¦³¤T¡G¥¼¨Ó©k©k¨Ó¿ð¡F²{¦b¹³½b¤@¯ë­¸³u¡F¹L¥h¥Ã»·ÀR¤î¤£°Ê¡C¡v¹L¥hªº¤@¤Á¯d¦b°O¾Ð¤¤¡A²{¦b¥u¬O·í¤Uªº¤@«b¨º¡A¦Ü©ó¥¼¨Ó¡A«h¬O§Ú­Ìªº§Æ±æ¤§©Ò¦b¡C±q¹L¥hªº©wÂI¬Ý¨Ó¡A²{¦b¤]¡u´¿¡v¬O¥¼¨Ó¡A¨Ã¥B¤]¡u±N¡v·|¹L¥h¡C¦]¦¹¡A§A§Æ±æ¥Í©Rµ²¥X¤°»òªG¡A´N¥þ¾a¦Û¤vªº¯Ñ¯Ð¤F¡C­Y·Q§¹¦¨¥Í©Rªº«÷¹Ï¡A¬O¤£¯à¨S¦³¼¥¼©»P»·¨£¡C
RRULE:FREQ=YEARLY;INTERVAL=1;BYMONTH=12;WKST=SU
PRIORITY:0
CLASS:PUBLIC
END:VEVENT
END:VCALENDAR
