BEGIN:VCALENDAR
CALSCALE:GREGORIAN
X-WR-TIMEZONE;VALUE=TEXT:GMT
PRODID:PEAK Corporation - piCal -
X-WR-CALNAME;VALUE=TEXT:¤H¥Í¥]§t¨â³¡¥÷¡G¤@³¡¬O©¹¨Æ¡A¬O¤@³õ¹Ú¡F¤@³¡¬O¥¼¨Ó¡A¬O¤@ÂI§Æ±æ¡C
VERSION:2.0
METHOD:PUBLISH
BEGIN:VTIMEZONE
TZID:GMT
BEGIN:STANDARD
DTSTART:19390101T000000
TZOFFSETFROM:+0000
TZOFFSETTO:+0000
TZNAME:GMT
END:STANDARD
END:VTIMEZONE
BEGIN:VEVENT
DTSTART;VALUE=DATE:20081220
DTEND;VALUE=DATE:20081221
LOCATION:
TRANSP:OPAQUE
SEQUENCE:0
UID:pical060-9266e47b894ea6df7aa99c64efd7094c
DTSTAMP:20080327T115939Z
CATEGORIES:
DESCRIPTION:
SUMMARY:¤H¥Í¥]§t¨â³¡¥÷¡G¤@³¡¬O©¹¨Æ¡A¬O¤@³õ¹Ú¡F¤@³¡¬O¥¼¨Ó¡A¬O¤@ÂI§Æ±æ¡C
RRULE:FREQ=YEARLY;INTERVAL=1;BYMONTH=12;WKST=SU
PRIORITY:0
CLASS:PUBLIC
END:VEVENT
END:VCALENDAR
