BEGIN:VCALENDAR
CALSCALE:GREGORIAN
X-WR-TIMEZONE;VALUE=TEXT:GMT
PRODID:PEAK Corporation - piCal -
X-WR-CALNAME;VALUE=TEXT:²¦¹F­ô©Ô´µ¡G¡u¤H¬°¤FÁý¾iµL±`ªº¨­Åé¡A¦Ó©CÄZ±a¦å¸{ªº¦×¡Q³o»P§]­¹§Ú­Ìªº«È¤H¦³¤°»ò°Ï§O¡S¡v 
VERSION:2.0
METHOD:PUBLISH
BEGIN:VTIMEZONE
TZID:GMT
BEGIN:STANDARD
DTSTART:19390101T000000
TZOFFSETFROM:+0000
TZOFFSETTO:+0000
TZNAME:GMT
END:STANDARD
END:VTIMEZONE
BEGIN:VEVENT
DTSTART;VALUE=DATE:20100317
DTEND;VALUE=DATE:20100318
LOCATION:
TRANSP:OPAQUE
SEQUENCE:0
UID:pical060-ebdb6ce663aefde499fa017fa997d571
DTSTAMP:20100301T130458Z
CATEGORIES:
DESCRIPTION:
SUMMARY:²¦¹F­ô©Ô´µ¡G¡u¤H¬°¤FÁý¾iµL±`ªº¨­Åé¡A¦Ó©CÄZ±a¦å¸{ªº¦×¡Q³o»P§]­¹§Ú­Ìªº«È¤H¦³¤°»ò°Ï§O¡S¡v 
RRULE:FREQ=YEARLY;INTERVAL=1;BYMONTH=3;WKST=SU
PRIORITY:0
CLASS:PUBLIC
END:VEVENT
END:VCALENDAR
