BEGIN:VCALENDAR
CALSCALE:GREGORIAN
X-WR-TIMEZONE;VALUE=TEXT:GMT
PRODID:PEAK Corporation - piCal -
X-WR-CALNAME;VALUE=TEXT:¡uÄ±¹î¡v¦Û¤vªº«äºû¹Lµ{¡A¾i¦¨¤£Â_¥h¬Ù«ä¦Û§ÚÂÂ²ßºDªº·s²ßºD¡A¦P®É¸õ²æÆ[©À©Ò«ª¡A¤£Â_¥Î·sªº¦n²ßºD¥h¥N´ÀÂÂªºÃa²ßºD¡A¤~¯à¦¨´N¯u¥¿ÄÝ©ó¦Û¤v¥D®_ªº¤H¥Í¡C
VERSION:2.0
METHOD:PUBLISH
BEGIN:VTIMEZONE
TZID:GMT
BEGIN:STANDARD
DTSTART:19390101T000000
TZOFFSETFROM:+0000
TZOFFSETTO:+0000
TZNAME:GMT
END:STANDARD
END:VTIMEZONE
BEGIN:VEVENT
DTSTART;VALUE=DATE:20100324
DTEND;VALUE=DATE:20100325
LOCATION:
TRANSP:OPAQUE
SEQUENCE:0
UID:pical060-4e530486c68e76c7d9713d661de081f1
DTSTAMP:20100324T001627Z
CATEGORIES:
DESCRIPTION:
SUMMARY:¡uÄ±¹î¡v¦Û¤vªº«äºû¹Lµ{¡A¾i¦¨¤£Â_¥h¬Ù«ä¦Û§ÚÂÂ²ßºDªº·s²ßºD¡A¦P®É¸õ²æÆ[©À©Ò«ª¡A¤£Â_¥Î·sªº¦n²ßºD¥h¥N´ÀÂÂªºÃa²ßºD¡A¤~¯à¦¨´N¯u¥¿ÄÝ©ó¦Û¤v¥D®_ªº¤H¥Í¡C
RRULE:FREQ=YEARLY;INTERVAL=1;BYMONTH=3;WKST=SU
PRIORITY:0
CLASS:PUBLIC
END:VEVENT
END:VCALENDAR
