BEGIN:VCALENDAR
CALSCALE:GREGORIAN
X-WR-TIMEZONE;VALUE=TEXT:GMT
PRODID:PEAK Corporation - piCal -
X-WR-CALNAME;VALUE=TEXT:¦pªG®É¥ú¯à°÷­ËÂà¡A§Ú¤@©w·|¬Ã±¤§O¤Hªº·R¡A¤£ºÞ§Ú¬O§_¯uªº·R¡A¦Ü¤Ö§ÚÀ³À´±o¤£¥h¶Ë®`
VERSION:2.0
METHOD:PUBLISH
BEGIN:VTIMEZONE
TZID:GMT
BEGIN:STANDARD
DTSTART:19390101T000000
TZOFFSETFROM:+0000
TZOFFSETTO:+0000
TZNAME:GMT
END:STANDARD
END:VTIMEZONE
BEGIN:VEVENT
DTSTART;VALUE=DATE:20100418
DTEND;VALUE=DATE:20100419
LOCATION:
TRANSP:OPAQUE
SEQUENCE:0
UID:pical060-670635298b291187dfa9bfd6fa2b002c
DTSTAMP:20100418T130844Z
CATEGORIES:
DESCRIPTION:
SUMMARY:¦pªG®É¥ú¯à°÷­ËÂà¡A§Ú¤@©w·|¬Ã±¤§O¤Hªº·R¡A¤£ºÞ§Ú¬O§_¯uªº·R¡A¦Ü¤Ö§ÚÀ³À´±o¤£¥h¶Ë®`
RRULE:FREQ=YEARLY;INTERVAL=1;BYMONTH=4;WKST=SU
PRIORITY:0
CLASS:PUBLIC
END:VEVENT
END:VCALENDAR
