BEGIN:VCALENDAR
CALSCALE:GREGORIAN
X-WR-TIMEZONE;VALUE=TEXT:GMT
PRODID:PEAK Corporation - piCal -
X-WR-CALNAME;VALUE=TEXT:¸tÆF§i¶D§Ú¡A¥¿ªk§Y¬O¡ª¾Ð°_¤W¥D¡A¬Û«H¤O¶q¦b¤º¦Ó¤£¦b¥~¡A·|±Ð§A©¹¤º²`²`ªº¬Ý¡A¬ï¶VµL©ú®£Äß¡A¤£¬Ý¨£³Ì«Gªº¥ú¨M¤£½}¥ð-----¥uµÛ²´¤º¦b¦­¤w­Ñ¨¬ªº¶êº¡Â×²±¡A¤£°²¥~¨D¡A¤£©¹¨­¥~¥h´M¡A­Y§i¶D§A¨­¥~¤~¯à³V±o¡A§Y¬O¤ÛÄ±¡I¡ª
VERSION:2.0
METHOD:PUBLISH
BEGIN:VTIMEZONE
TZID:GMT
BEGIN:STANDARD
DTSTART:19390101T000000
TZOFFSETFROM:+0000
TZOFFSETTO:+0000
TZNAME:GMT
END:STANDARD
END:VTIMEZONE
BEGIN:VEVENT
DTSTART;VALUE=DATE:20101104
DTEND;VALUE=DATE:20101105
LOCATION:
TRANSP:OPAQUE
SEQUENCE:0
UID:pical060-8172e622786495d13a568833acdf8fe7
DTSTAMP:20101105T030246Z
CATEGORIES:
DESCRIPTION:
SUMMARY:¸tÆF§i¶D§Ú¡A¥¿ªk§Y¬O¡ª¾Ð°_¤W¥D¡A¬Û«H¤O¶q¦b¤º¦Ó¤£¦b¥~¡A·|±Ð§A©¹¤º²`²`ªº¬Ý¡A¬ï¶VµL©ú®£Äß¡A¤£¬Ý¨£³Ì«Gªº¥ú¨M¤£½}¥ð-----¥uµÛ²´¤º¦b¦­¤w­Ñ¨¬ªº¶êº¡Â×²±¡A¤£°²¥~¨D¡A¤£©¹¨­¥~¥h´M¡A­Y§i¶D§A¨­¥~¤~¯à³V±o¡A§Y¬O¤ÛÄ±¡I¡ª
RRULE:FREQ=YEARLY;INTERVAL=1;BYMONTH=11;WKST=SU
PRIORITY:0
CLASS:PUBLIC
END:VEVENT
END:VCALENDAR
